BEGIN:VCALENDAR
VERSION:2.0
PRODID:-//Ramsdell Theatre &amp; Regional Center for the Arts - ECPv6.15.15//NONSGML v1.0//EN
CALSCALE:GREGORIAN
METHOD:PUBLISH
X-WR-CALNAME:Ramsdell Theatre &amp; Regional Center for the Arts
X-ORIGINAL-URL:https://ramsdelltheatre.org
X-WR-CALDESC:Events for Ramsdell Theatre &amp; Regional Center for the Arts
REFRESH-INTERVAL;VALUE=DURATION:PT1H
X-Robots-Tag:noindex
X-PUBLISHED-TTL:PT1H
BEGIN:VTIMEZONE
TZID:America/Detroit
BEGIN:DAYLIGHT
TZOFFSETFROM:-0500
TZOFFSETTO:-0400
TZNAME:EDT
DTSTART:20250309T070000
END:DAYLIGHT
BEGIN:STANDARD
TZOFFSETFROM:-0400
TZOFFSETTO:-0500
TZNAME:EST
DTSTART:20251102T060000
END:STANDARD
BEGIN:DAYLIGHT
TZOFFSETFROM:-0500
TZOFFSETTO:-0400
TZNAME:EDT
DTSTART:20260308T070000
END:DAYLIGHT
BEGIN:STANDARD
TZOFFSETFROM:-0400
TZOFFSETTO:-0500
TZNAME:EST
DTSTART:20261101T060000
END:STANDARD
BEGIN:DAYLIGHT
TZOFFSETFROM:-0500
TZOFFSETTO:-0400
TZNAME:EDT
DTSTART:20270314T070000
END:DAYLIGHT
BEGIN:STANDARD
TZOFFSETFROM:-0400
TZOFFSETTO:-0500
TZNAME:EST
DTSTART:20271107T060000
END:STANDARD
END:VTIMEZONE
BEGIN:VEVENT
DTSTART;TZID=America/Detroit:20260508T120000
DTEND;TZID=America/Detroit:20260605T150000
DTSTAMP:20260424T125949
CREATED:20260411T201115Z
LAST-MODIFIED:20260411T201115Z
UID:19931-1778241600-1780671600@ramsdelltheatre.org
SUMMARY:The Art of the Tattoo
DESCRIPTION:The Art of the Tattoo \nTattoos are more than ink on skin\, they are deeply personal works of art that commemorate life’s most \nmeaningful moments.  From celebrations and milestone to tributes\, traditional\, and personal \n \ntransformations\, there is a tattoo for every occasion.  Each design carries a unique story\, reflecting identity\, \nmemory\, and emotion. \nThe Art of the Tattoo explores the beauty and artistry behind this timeless form of self-expression. \nShowcasing a diverse range of styles\, culture\, and inspirations.  The exhibit invites viewers to  appreciate \ntattoos not only as personal symbols but also as powerful works of art.  Through these stories etched in \nink\, we celebrate the creativity\, craftsmanship\, and human experiences that make tattooing a truly \nmeaningful art form!
URL:https://ramsdelltheatre.org/event/the-art-of-the-tattoo/
LOCATION:MI
END:VEVENT
BEGIN:VEVENT
DTSTART;TZID=America/Detroit:20260605T193000
DTEND;TZID=America/Detroit:20260605T213000
DTSTAMP:20260424T125949
CREATED:20260205T203820Z
LAST-MODIFIED:20260205T210206Z
UID:19767-1780687800-1780695000@ramsdelltheatre.org
SUMMARY:Spectral Silhouette Radio Show
DESCRIPTION:“Normal and Paranormal beware\, The Spectral Silhouette will always be there!”  Inspired by old time radio programs such as The Shadow\, The Whistler\, and Green Hornet\, this award winning (LA Webfest 2025 Best Adventure/Comedy) audio drama is an original work featuring music performed by the Black and Blue Hearts.  The Spectral Silhouette centers around laughs\, murder\, and ghosts. \nTo listen to the show go to: \nredcircle.com/shows/the-spectral-silhouette
URL:https://ramsdelltheatre.org/event/spectral-silhouette-radio-show/
LOCATION:Ramsdell Regional Center for the Arts\, 101 Maple Street\, Manistee\, MI\, 49660\, United States
ORGANIZER;CN="RRCA":MAILTO:lortiz@ramsdelltheatre.org
END:VEVENT
BEGIN:VEVENT
DTSTART;VALUE=DATE:20260606
DTEND;VALUE=DATE:20260607
DTSTAMP:20260424T125949
CREATED:20260417T150331Z
LAST-MODIFIED:20260417T150331Z
UID:19974-1780704000-1780790399@ramsdelltheatre.org
SUMMARY:Private Event
DESCRIPTION:
URL:https://ramsdelltheatre.org/event/private-event-9/
LOCATION:MI
END:VEVENT
BEGIN:VEVENT
DTSTART;TZID=America/Detroit:20260619T120000
DTEND;TZID=America/Detroit:20260725T150000
DTSTAMP:20260424T125949
CREATED:20260417T150925Z
LAST-MODIFIED:20260417T150925Z
UID:19982-1781870400-1784991600@ramsdelltheatre.org
SUMMARY:Saved From the Bin Exhibit
DESCRIPTION:
URL:https://ramsdelltheatre.org/event/saved-from-the-bin-exhibit/
LOCATION:Ramsdell Regional Center for the Arts\, 101 Maple Street\, Manistee\, MI\, 49660\, United States
ORGANIZER;CN="RRCA":MAILTO:lortiz@ramsdelltheatre.org
END:VEVENT
BEGIN:VEVENT
DTSTART;VALUE=DATE:20260620
DTEND;VALUE=DATE:20260621
DTSTAMP:20260424T125949
CREATED:20260417T150745Z
LAST-MODIFIED:20260417T150745Z
UID:19980-1781913600-1781999999@ramsdelltheatre.org
SUMMARY:Private Event
DESCRIPTION:
URL:https://ramsdelltheatre.org/event/private-event-10/
LOCATION:MI
END:VEVENT
BEGIN:VEVENT
DTSTART;TZID=America/Detroit:20260626T193000
DTEND;TZID=America/Detroit:20260626T213000
DTSTAMP:20260424T125949
CREATED:20260206T195653Z
LAST-MODIFIED:20260206T195743Z
UID:19786-1782502200-1782509400@ramsdelltheatre.org
SUMMARY:Glenn Miller Orchestra
DESCRIPTION:The World Famous\, Glenn Miller Orchestra\, the most popular and sought after big band in the world today for both concert and swing dance engagements. With its unique jazz sound\, the Glenn Miller Orchestra is considered to be one of the greatest bands of all time. The present Glenn Miller Orchestra was formed in 1956 and has been touring consistently since\, playing an average of 300 live dates a year all around the world. Erik Stabnau is the orchestra’s present music director.
URL:https://ramsdelltheatre.org/event/glenn-miller-orchestra-2/
LOCATION:Ramsdell Regional Center for the Arts\, 101 Maple Street\, Manistee\, MI\, 49660\, United States
ORGANIZER;CN="RRCA":MAILTO:lortiz@ramsdelltheatre.org
END:VEVENT
END:VCALENDAR