BEGIN:VCALENDAR
VERSION:2.0
PRODID:-//Ramsdell Theatre &amp; Regional Center for the Arts - ECPv6.15.15//NONSGML v1.0//EN
CALSCALE:GREGORIAN
METHOD:PUBLISH
X-WR-CALNAME:Ramsdell Theatre &amp; Regional Center for the Arts
X-ORIGINAL-URL:https://ramsdelltheatre.org
X-WR-CALDESC:Events for Ramsdell Theatre &amp; Regional Center for the Arts
REFRESH-INTERVAL;VALUE=DURATION:PT1H
X-Robots-Tag:noindex
X-PUBLISHED-TTL:PT1H
BEGIN:VTIMEZONE
TZID:America/Detroit
BEGIN:DAYLIGHT
TZOFFSETFROM:-0500
TZOFFSETTO:-0400
TZNAME:EDT
DTSTART:20250309T070000
END:DAYLIGHT
BEGIN:STANDARD
TZOFFSETFROM:-0400
TZOFFSETTO:-0500
TZNAME:EST
DTSTART:20251102T060000
END:STANDARD
BEGIN:DAYLIGHT
TZOFFSETFROM:-0500
TZOFFSETTO:-0400
TZNAME:EDT
DTSTART:20260308T070000
END:DAYLIGHT
BEGIN:STANDARD
TZOFFSETFROM:-0400
TZOFFSETTO:-0500
TZNAME:EST
DTSTART:20261101T060000
END:STANDARD
BEGIN:DAYLIGHT
TZOFFSETFROM:-0500
TZOFFSETTO:-0400
TZNAME:EDT
DTSTART:20270314T070000
END:DAYLIGHT
BEGIN:STANDARD
TZOFFSETFROM:-0400
TZOFFSETTO:-0500
TZNAME:EST
DTSTART:20271107T060000
END:STANDARD
END:VTIMEZONE
BEGIN:VEVENT
DTSTART;TZID=America/Detroit:20260502T130000
DTEND;TZID=America/Detroit:20260502T160000
DTSTAMP:20260424T115010
CREATED:20260417T142934Z
LAST-MODIFIED:20260417T142934Z
UID:19955-1777726800-1777737600@ramsdelltheatre.org
SUMMARY:MET Opera "Eugen Onegin" (Tchaikovsky)
DESCRIPTION:Following her acclaimed 2024 company debut in Puccini’s Madama Butterfly\, soprano Asmik Grigorian returns to the Met as Tatiana\, the lovestruck young heroine in this ardent operatic adaptation of Pushkin. Baritone Igor Golovatenko reprises his portrayal of the urbane Onegin\, who realizes his affection for her all too late. The Met’s evocative production\, directed by Tony Award–winner Deborah Warner\, “offers a beautifully detailed reading of … Tchaikovsky’s lyrical romance” (The Telegraph). \nRun time-245 minutes \nEUGENE ONEGIN (Tchaikovsky) – Revival \n$15.00 (Students)- $25.00 including fees
URL:https://ramsdelltheatre.org/event/met-opera-eugen-onegin-tchaikovsky/
LOCATION:Ramsdell Regional Center for the Arts\, 101 Maple Street\, Manistee\, MI\, 49660\, United States
ORGANIZER;CN="RRCA":MAILTO:lortiz@ramsdelltheatre.org
END:VEVENT
BEGIN:VEVENT
DTSTART;TZID=America/Detroit:20260508T120000
DTEND;TZID=America/Detroit:20260605T150000
DTSTAMP:20260424T115010
CREATED:20260411T201115Z
LAST-MODIFIED:20260411T201115Z
UID:19931-1778241600-1780671600@ramsdelltheatre.org
SUMMARY:The Art of the Tattoo
DESCRIPTION:The Art of the Tattoo \nTattoos are more than ink on skin\, they are deeply personal works of art that commemorate life’s most \nmeaningful moments.  From celebrations and milestone to tributes\, traditional\, and personal \n \ntransformations\, there is a tattoo for every occasion.  Each design carries a unique story\, reflecting identity\, \nmemory\, and emotion. \nThe Art of the Tattoo explores the beauty and artistry behind this timeless form of self-expression. \nShowcasing a diverse range of styles\, culture\, and inspirations.  The exhibit invites viewers to  appreciate \ntattoos not only as personal symbols but also as powerful works of art.  Through these stories etched in \nink\, we celebrate the creativity\, craftsmanship\, and human experiences that make tattooing a truly \nmeaningful art form!
URL:https://ramsdelltheatre.org/event/the-art-of-the-tattoo/
LOCATION:MI
END:VEVENT
BEGIN:VEVENT
DTSTART;VALUE=DATE:20260509
DTEND;VALUE=DATE:20260510
DTSTAMP:20260424T115010
CREATED:20260417T143115Z
LAST-MODIFIED:20260417T143115Z
UID:19959-1778284800-1778371199@ramsdelltheatre.org
SUMMARY:Private Event
DESCRIPTION:
URL:https://ramsdelltheatre.org/event/private-event-6/
LOCATION:MI
END:VEVENT
BEGIN:VEVENT
DTSTART;TZID=America/Detroit:20260509T090000
DTEND;TZID=America/Detroit:20260509T120000
DTSTAMP:20260424T115010
CREATED:20260417T143727Z
LAST-MODIFIED:20260417T143727Z
UID:19961-1778317200-1778328000@ramsdelltheatre.org
SUMMARY:MCP Auditions "Annie"
DESCRIPTION:Leapin’ Lizards! Annie is a spunky orphan in 1930s New York City determined to find her parents. In one fun-filled adventure after another\, Annie foils Miss Hannigan’s evil schemes\, befriends President Roosevelt and finds a new home with billionaire Oliver Warbucks\, his personal secretary Grace and a lovable mutt named Sandy. This Tony Award-winning Best Musical for the entire family features some of the greatest musical theatre hits ever written including “It’s the Hard Knock Life\,” “Easy Street\,” “I Don’t Need Anything But You\,” plus the eternal anthem of optimism\, “Tomorrow.” Annie will fill your heart with joy! \nTo audition\, come in the side door (1st Street) up the stairs and head to the theatre. \nAll are welcomed to audition. \n 
URL:https://ramsdelltheatre.org/event/mcp-auditions-annie/
LOCATION:Ramsdell Regional Center for the Arts\, 101 Maple Street\, Manistee\, MI\, 49660\, United States
ORGANIZER;CN="RRCA":MAILTO:lortiz@ramsdelltheatre.org
END:VEVENT
BEGIN:VEVENT
DTSTART;TZID=America/Detroit:20260511T183000
DTEND;TZID=America/Detroit:20260511T203000
DTSTAMP:20260424T115010
CREATED:20260417T144800Z
LAST-MODIFIED:20260417T144800Z
UID:19963-1778524200-1778531400@ramsdelltheatre.org
SUMMARY:MCP Auditions "Annie"
DESCRIPTION:Leapin’ Lizards! Annie is a spunky orphan in 1930s New York City determined to find her parents. In one fun-filled adventure after another\, Annie foils Miss Hannigan’s evil schemes\, befriends President Roosevelt and finds a new home with billionaire Oliver Warbucks\, his personal secretary Grace and a lovable mutt named Sandy. This Tony Award-winning Best Musical for the entire family features some of the greatest musical theatre hits ever written including “It’s the Hard Knock Life\,” “Easy Street\,” “I Don’t Need Anything But You\,” plus the eternal anthem of optimism\, “Tomorrow.” Annie will fill your heart with joy! \nTo audition\, come in the side door (1st Street) up the stairs and head to the theatre. \nAll are welcomed to audition.
URL:https://ramsdelltheatre.org/event/mcp-auditions-annie-2/
LOCATION:Ramsdell Regional Center for the Arts\, 101 Maple Street\, Manistee\, MI\, 49660\, United States
ORGANIZER;CN="RRCA":MAILTO:lortiz@ramsdelltheatre.org
END:VEVENT
BEGIN:VEVENT
DTSTART;TZID=America/Detroit:20260512T190000
DTEND;TZID=America/Detroit:20260512T203000
DTSTAMP:20260424T115010
CREATED:20260417T145038Z
LAST-MODIFIED:20260417T145038Z
UID:19965-1778612400-1778617800@ramsdelltheatre.org
SUMMARY:MCP Callbacks "Annie"
DESCRIPTION:Leapin’ Lizards! Annie is a spunky orphan in 1930s New York City determined to find her parents. In one fun-filled adventure after another\, Annie foils Miss Hannigan’s evil schemes\, befriends President Roosevelt and finds a new home with billionaire Oliver Warbucks\, his personal secretary Grace and a lovable mutt named Sandy. This Tony Award-winning Best Musical for the entire family features some of the greatest musical theatre hits ever written including “It’s the Hard Knock Life\,” “Easy Street\,” “I Don’t Need Anything But You\,” plus the eternal anthem of optimism\, “Tomorrow.” Annie will fill your heart with joy! \nIf you are asked to come back for an additional audition\, come in the side door (1st Street) up the stairs and head to the theatre. \n 
URL:https://ramsdelltheatre.org/event/mcp-callbacks-annie/
LOCATION:Ramsdell Regional Center for the Arts\, 101 Maple Street\, Manistee\, MI\, 49660\, United States
ORGANIZER;CN="RRCA":MAILTO:lortiz@ramsdelltheatre.org
END:VEVENT
BEGIN:VEVENT
DTSTART;TZID=America/Detroit:20260516T170000
DTEND;TZID=America/Detroit:20260516T220000
DTSTAMP:20260424T115010
CREATED:20260416T201830Z
LAST-MODIFIED:20260416T201911Z
UID:19945-1778950800-1778968800@ramsdelltheatre.org
SUMMARY:2026 Annual Gala "Celebrating Broadway Musicals Throughout the Decades"
DESCRIPTION:Step into an evening of elegance\, artistry\, and celebration at our 2026 Annual Gala: Celebrating Broadway Musicals throughout \n \nThe Decades\, taking place May 16th from 5-10pm. \nGuest will be welcomed with a cocktail hour in Hardy Hall\, followed by a captivating Broadway-themed performance in \nthe theatre featuring the Conservatory of Dance\, and musicians Karl & Kristen Hartley\, Sara Hartley & Jeremy Hogue. \nThe evening continues in the ballroom with a delightful selection of heavy hors d’oeuvres\, offering time to mingle\, reflect\, and celebrate the arts. \nWe are honored to welcome special guests Toni Trucks\, who will serve as our Master of Ceremonies\, and Shane Parus\, whose performance will add a truly special touch to the evening.  Both are Manistee natives\, we are especially proud to have them return for this memorable occasion. \nJoin us for a night that honors the magic of Broadway while supporting the future of the arts in our community. \nTickets are available now\, reserve yours soon for this unforgettable celebration. \nhttps://ci.ovationtix.com/35295/production/1264819 \n 
URL:https://ramsdelltheatre.org/event/2026-annual-gala-celebrating-broadway-throughout-the-decades/
LOCATION:Ramsdell Regional Center for the Arts\, 101 Maple Street\, Manistee\, MI\, 49660\, United States
ORGANIZER;CN="RRCA":MAILTO:lortiz@ramsdelltheatre.org
END:VEVENT
BEGIN:VEVENT
DTSTART;VALUE=DATE:20260523
DTEND;VALUE=DATE:20260524
DTSTAMP:20260424T115010
CREATED:20260417T150652Z
LAST-MODIFIED:20260417T150652Z
UID:19978-1779494400-1779580799@ramsdelltheatre.org
SUMMARY:Private Event
DESCRIPTION:
URL:https://ramsdelltheatre.org/event/private-event-8/
LOCATION:MI
END:VEVENT
BEGIN:VEVENT
DTSTART;TZID=America/Detroit:20260529T193000
DTEND;TZID=America/Detroit:20260529T213000
DTSTAMP:20260424T115010
CREATED:20260205T194902Z
LAST-MODIFIED:20260416T203704Z
UID:19761-1780083000-1780090200@ramsdelltheatre.org
SUMMARY:MAD ANGLER TRIO
DESCRIPTION:The Mad Angler Trio\nCrispin Campbell-Cello (Interlochen and the Neptune Quartet) “The Deep Soul of the Cello” \nJoe Wilson-Dobro (Steppin In It) “The High Lonesome sound of the Dobro” \nSteve Stargardt-Piano (Traverse City Philharmonic Jazz Orchestra) “The Flowing Harmony of the Piano” \nInspired by the work of Interlochen Poet Michael Delp (AKA The Mad Angler) the band explores an uncanny region where a classically based cellist\, a bluegrass dobro player and a jazz pianist find common ground in an ever-changing musical conversation. \nGiving a nod to Bach\, some deep roots blues and Americana\, with a natural connection to jazz standards\, The Mad Angler Trio takes you on a listening adventure not to be missed. \nJoining the trio is multi-genre violinist Jeremy Cohen who is experienced in a broad range of musical styles\, including classical\, tango\, bluegrass\, jazz\, Latin\, Western Swing\, Americana and others.  Cohen is recognized nationally as an expert in multi-genre string playing in the modern age. \nWhile living in Los Angeles in the 1980’s Cohen performed on stage\, in movie soundtracks\, and on Hollywood television series. After relocating with his family to the San Francisco Bay area\, Cohen performed for two years as the lead violinist with the stage production Forever Tango. He founded his Violinjazz band (violin\, guitar\, bass\, and piano) in 1986 and Quartet San Francisco (string quartet) in 2000. He has worked\, taught\, toured\, and concertized with both groups for the last three decades. \nCohen maintains an active coaching studio in\, California\, and conducts in-person and online workshops on technique and improvisation for string players. Cohen publishes his compositions and arrangements under the Violinjazz Publishing imprint\, offering books of solo etudes\, duets\, string quartets\, and works for string orchestra. \nCohen’s recording projects with Quartet San Francisco have garnered eight Grammy nominations. His latest project\, “Raymond Scott Reimagined\,” was nominated for the 2023 Grammy Award for Best Original Composition for Cutey and the Dragon (composers Raymond Scott and Gordon Goodwin). \nYou tube: Violinjazz123 You tube: QuartetSanFrancisco \n \n  \n 
URL:https://ramsdelltheatre.org/event/mad-angler-trio/
LOCATION:Ramsdell Regional Center for the Arts\, 101 Maple Street\, Manistee\, MI\, 49660\, United States
ORGANIZER;CN="RRCA":MAILTO:lortiz@ramsdelltheatre.org
END:VEVENT
BEGIN:VEVENT
DTSTART;TZID=America/Detroit:20260530T130000
DTEND;TZID=America/Detroit:20260530T160000
DTSTAMP:20260424T115010
CREATED:20260417T150146Z
LAST-MODIFIED:20260417T150146Z
UID:19970-1780146000-1780156800@ramsdelltheatre.org
SUMMARY:MET Opera "El ultimo sueno De Friday Y Diego (Gabriela Lena Frank)
DESCRIPTION:American composer Gabriela Lena Frank makes her Met debut with her first opera\, a magical-realist portrait of Mexico’s painterly power couple Frida Kahlo and Diego Rivera\, with libretto by Pulitzer Prize–winning playwright Nilo Cruz. Fashioned as a reversal of the Orpheus and Euridice myth\, the story depicts Frida\, sung by leading mezzo-soprano Isabel Leonard\, leaving the underworld on the Day of the Dead and reuniting with Diego\, portrayed by baritone Carlos Álvarez. The famously feuding pair briefly relive their tumultuous love\, embracing both the passion and the pain before bidding the land of the living a final farewell. Yannick Nézet-Séguin conducts the Met premiere of Frank’s opera\, a “confident\, richly imagined score” (The New Yorker) that “bursts with color and fresh individuality” (Los Angeles Times). The vibrant new production\, taking enthusiastic inspiration from Frida and Diego’s paintings\, is directed and choreographed by Deborah Colker\, following her remarkable 2024 debut staging of Ainadamar. \n168 minutes \nEL ULTIMO SUENO DE FRIDA Y DIEGO (Gabriela Lena Frank – Libretto by Nilo Cruz) \n$15.00 (Students) – $25.00 including fees
URL:https://ramsdelltheatre.org/event/met-opera-el-ultimo-sueno-de-friday-y-diego-gabriela-lena-frank/
LOCATION:Ramsdell Regional Center for the Arts\, 101 Maple Street\, Manistee\, MI\, 49660\, United States
ORGANIZER;CN="RRCA":MAILTO:lortiz@ramsdelltheatre.org
END:VEVENT
END:VCALENDAR