BEGIN:VCALENDAR
VERSION:2.0
PRODID:-//Ramsdell Theatre &amp; Regional Center for the Arts - ECPv6.15.15//NONSGML v1.0//EN
CALSCALE:GREGORIAN
METHOD:PUBLISH
X-WR-CALNAME:Ramsdell Theatre &amp; Regional Center for the Arts
X-ORIGINAL-URL:https://ramsdelltheatre.org
X-WR-CALDESC:Events for Ramsdell Theatre &amp; Regional Center for the Arts
REFRESH-INTERVAL;VALUE=DURATION:PT1H
X-Robots-Tag:noindex
X-PUBLISHED-TTL:PT1H
BEGIN:VTIMEZONE
TZID:America/Detroit
BEGIN:DAYLIGHT
TZOFFSETFROM:-0500
TZOFFSETTO:-0400
TZNAME:EDT
DTSTART:20250309T070000
END:DAYLIGHT
BEGIN:STANDARD
TZOFFSETFROM:-0400
TZOFFSETTO:-0500
TZNAME:EST
DTSTART:20251102T060000
END:STANDARD
BEGIN:DAYLIGHT
TZOFFSETFROM:-0500
TZOFFSETTO:-0400
TZNAME:EDT
DTSTART:20260308T070000
END:DAYLIGHT
BEGIN:STANDARD
TZOFFSETFROM:-0400
TZOFFSETTO:-0500
TZNAME:EST
DTSTART:20261101T060000
END:STANDARD
BEGIN:DAYLIGHT
TZOFFSETFROM:-0500
TZOFFSETTO:-0400
TZNAME:EDT
DTSTART:20270314T070000
END:DAYLIGHT
BEGIN:STANDARD
TZOFFSETFROM:-0400
TZOFFSETTO:-0500
TZNAME:EST
DTSTART:20271107T060000
END:STANDARD
END:VTIMEZONE
BEGIN:VEVENT
DTSTART;TZID=America/Detroit:20260201T120000
DTEND;TZID=America/Detroit:20260227T150000
DTSTAMP:20260421T141124
CREATED:20260114T160618Z
LAST-MODIFIED:20260209T204538Z
UID:19667-1769947200-1772204400@ramsdelltheatre.org
SUMMARY:Art is Love\, Actually-Exhibit
DESCRIPTION:Calling All Artists \n \nWhat is Art? \nAn expression of emotion? A touch of charcoal on paper? A blob of clay that transforms into an object of purpose or just desire? A splash of paint\, a woven string\, a clutch of cloth that provides a means to tell a story? Something we create simply because we need to create-to connect\, to show what we see or feel in our heart? \nThe very act of creating can be so personal that it feels like a love letter. \nArt is Love\, Actually \nJoin us in our community art event showing your love of art. All mediums will be accepted. Any one dimension cannot exceed 36”. The art committee reserves the right to deny offensive or inappropriate material. You can enter up to 3 pieces. 30% of the value will be retained by the RRCA to further exhibits and programming at The Ramsdell Theater and Hardy Hall. Art submissions due 1/26-27. \nSo tell us-who (or what) do you love?
URL:https://ramsdelltheatre.org/event/art-is-love-actually-2/
LOCATION:Ramsdell Regional Center for the Arts\, 101 Maple Street\, Manistee\, MI\, 49660\, United States
ATTACH;FMTTYPE=image/jpeg:https://ramsdelltheatre.org/wp-content/uploads/2026/01/Ramsdell_Art-is-Love-Actually_Letter-Flyer.jpg
ORGANIZER;CN="RRCA":MAILTO:lortiz@ramsdelltheatre.org
END:VEVENT
BEGIN:VEVENT
DTSTART;TZID=America/Detroit:20260213T183000
DTEND;TZID=America/Detroit:20260213T203000
DTSTAMP:20260421T141124
CREATED:20260121T164248Z
LAST-MODIFIED:20260205T201031Z
UID:19691-1771007400-1771014600@ramsdelltheatre.org
SUMMARY:Romance & Rhapsody
DESCRIPTION:Join four extraordinary voices for an enchanting celebration of beloved love songs and timeless standards.  Experience an evening of passion\, humor and breathtaking harmonies. \nA night with Kat\, Katie\, Ben & Elliot.  With accompanist Blade Gates on piano.\n\nA wonderful evening of ROMANCE for you. Ticket includes desserts & a drink.\nConcert and cocktail hour will take place in Hardy Hall.\n\nPrice: $25 for single & $40 for a couple.
URL:https://ramsdelltheatre.org/event/romance-rhapsody/
LOCATION:Ramsdell Regional Center for the Arts\, 101 Maple Street\, Manistee\, MI\, 49660\, United States
ORGANIZER;CN="RRCA":MAILTO:lortiz@ramsdelltheatre.org
END:VEVENT
BEGIN:VEVENT
DTSTART;TZID=America/Detroit:20260221T130000
DTEND;TZID=America/Detroit:20260221T153000
DTSTAMP:20260421T141124
CREATED:20260121T204637Z
LAST-MODIFIED:20260210T183052Z
UID:19704-1771678800-1771687800@ramsdelltheatre.org
SUMMARY:Life of Pi-National Theatre Live
DESCRIPTION:Life of Pi\, the play by Lolita Chakrabarti\, is a stage adaptation of Yann Martel’s bestselling novel\, renowned for its stunning puppetry and visual effects that bring the story of a boy stranded at sea with a tiger to life. The play premiered in Sheffield in 2019\, moved to London’s West End\, and then to Broadway\, winning numerous Awards for the Best New Play.  It tells the story of Pi Patel’s survival\, blending a tale of faith and endurance with a parallel story of human predators\, all while using innovative stagecraft to create a visually spectacular and emotionally powerful theatrical experience.\nLife of Pi is a play to be shown on screen.
URL:https://ramsdelltheatre.org/event/life-of-pi-2/
LOCATION:Ramsdell Regional Center for the Arts\, 101 Maple Street\, Manistee\, MI\, 49660\, United States
ORGANIZER;CN="RRCA":MAILTO:lortiz@ramsdelltheatre.org
END:VEVENT
END:VCALENDAR