BEGIN:VCALENDAR
VERSION:2.0
PRODID:-//Ramsdell Theatre &amp; Regional Center for the Arts - ECPv6.15.15//NONSGML v1.0//EN
CALSCALE:GREGORIAN
METHOD:PUBLISH
X-WR-CALNAME:Ramsdell Theatre &amp; Regional Center for the Arts
X-ORIGINAL-URL:https://ramsdelltheatre.org
X-WR-CALDESC:Events for Ramsdell Theatre &amp; Regional Center for the Arts
REFRESH-INTERVAL;VALUE=DURATION:PT1H
X-Robots-Tag:noindex
X-PUBLISHED-TTL:PT1H
BEGIN:VTIMEZONE
TZID:America/Detroit
BEGIN:DAYLIGHT
TZOFFSETFROM:-0500
TZOFFSETTO:-0400
TZNAME:EDT
DTSTART:20240310T070000
END:DAYLIGHT
BEGIN:STANDARD
TZOFFSETFROM:-0400
TZOFFSETTO:-0500
TZNAME:EST
DTSTART:20241103T060000
END:STANDARD
BEGIN:DAYLIGHT
TZOFFSETFROM:-0500
TZOFFSETTO:-0400
TZNAME:EDT
DTSTART:20250309T070000
END:DAYLIGHT
BEGIN:STANDARD
TZOFFSETFROM:-0400
TZOFFSETTO:-0500
TZNAME:EST
DTSTART:20251102T060000
END:STANDARD
BEGIN:DAYLIGHT
TZOFFSETFROM:-0500
TZOFFSETTO:-0400
TZNAME:EDT
DTSTART:20260308T070000
END:DAYLIGHT
BEGIN:STANDARD
TZOFFSETFROM:-0400
TZOFFSETTO:-0500
TZNAME:EST
DTSTART:20261101T060000
END:STANDARD
END:VTIMEZONE
BEGIN:VEVENT
DTSTART;TZID=America/Detroit:20250810T140000
DTEND;TZID=America/Detroit:20250810T163000
DTSTAMP:20260421T220720
CREATED:20250620T193638Z
LAST-MODIFIED:20250620T194037Z
UID:17552-1754834400-1754843400@ramsdelltheatre.org
SUMMARY:Music Man
DESCRIPTION:
URL:https://ramsdelltheatre.org/event/music-man-2/
LOCATION:Ramsdell Regional Center for the Arts\, 101 Maple Street\, Manistee\, MI\, 49660\, United States
ORGANIZER;CN="RRCA":MAILTO:lortiz@ramsdelltheatre.org
END:VEVENT
BEGIN:VEVENT
DTSTART;TZID=America/Detroit:20250808T193000
DTEND;TZID=America/Detroit:20250809T213000
DTSTAMP:20260421T220720
CREATED:20250620T193310Z
LAST-MODIFIED:20250620T193508Z
UID:17548-1754681400-1754775000@ramsdelltheatre.org
SUMMARY:Music Man
DESCRIPTION:
URL:https://ramsdelltheatre.org/event/music-man/
LOCATION:Ramsdell Regional Center for the Arts\, 101 Maple Street\, Manistee\, MI\, 49660\, United States
ORGANIZER;CN="RRCA":MAILTO:lortiz@ramsdelltheatre.org
END:VEVENT
BEGIN:VEVENT
DTSTART;TZID=America/Detroit:20250806T193000
DTEND;TZID=America/Detroit:20250806T213000
DTSTAMP:20260421T220720
CREATED:20250717T205404Z
LAST-MODIFIED:20250717T205408Z
UID:17589-1754508600-1754515800@ramsdelltheatre.org
SUMMARY:In Close Harmony
DESCRIPTION:
URL:https://ramsdelltheatre.org/event/in-close-harmony/
LOCATION:MI
END:VEVENT
BEGIN:VEVENT
DTSTART;TZID=America/Detroit:20250725T193000
DTEND;TZID=America/Detroit:20250725T213000
DTSTAMP:20260421T220720
CREATED:20250620T192224Z
LAST-MODIFIED:20250620T192224Z
UID:17536-1753471800-1753479000@ramsdelltheatre.org
SUMMARY:Bar Time Stories
DESCRIPTION:
URL:https://ramsdelltheatre.org/event/bar-time-stories/
LOCATION:Ramsdell Regional Center for the Arts\, 101 Maple Street\, Manistee\, MI\, 49660\, United States
ORGANIZER;CN="RRCA":MAILTO:lortiz@ramsdelltheatre.org
END:VEVENT
BEGIN:VEVENT
DTSTART;TZID=America/Detroit:20250719T130000
DTEND;TZID=America/Detroit:20250719T150000
DTSTAMP:20260421T220720
CREATED:20250620T192726Z
LAST-MODIFIED:20250620T192726Z
UID:17542-1752930000-1752937200@ramsdelltheatre.org
SUMMARY:Dramatic Readings
DESCRIPTION:
URL:https://ramsdelltheatre.org/event/dramatic-readings/
LOCATION:Ramsdell Regional Center for the Arts\, 101 Maple Street\, Manistee\, MI\, 49660\, United States
ORGANIZER;CN="RRCA":MAILTO:lortiz@ramsdelltheatre.org
END:VEVENT
BEGIN:VEVENT
DTSTART;TZID=America/Detroit:20250718T193000
DTEND;TZID=America/Detroit:20250718T213000
DTSTAMP:20260421T220720
CREATED:20250620T192016Z
LAST-MODIFIED:20250620T192016Z
UID:17533-1752867000-1752874200@ramsdelltheatre.org
SUMMARY:Mississippi Heat
DESCRIPTION:
URL:https://ramsdelltheatre.org/event/mississippi-heat/
LOCATION:Ramsdell Regional Center for the Arts\, 101 Maple Street\, Manistee\, MI\, 49660\, United States
ORGANIZER;CN="RRCA":MAILTO:lortiz@ramsdelltheatre.org
END:VEVENT
BEGIN:VEVENT
DTSTART;TZID=America/Detroit:20250711T193000
DTEND;TZID=America/Detroit:20250711T213000
DTSTAMP:20260421T220720
CREATED:20250620T193018Z
LAST-MODIFIED:20250620T193018Z
UID:17545-1752262200-1752269400@ramsdelltheatre.org
SUMMARY:Third Coast Swing
DESCRIPTION:
URL:https://ramsdelltheatre.org/event/third-coast-swing/
LOCATION:Ramsdell Regional Center for the Arts\, 101 Maple Street\, Manistee\, MI\, 49660\, United States
ORGANIZER;CN="RRCA":MAILTO:lortiz@ramsdelltheatre.org
END:VEVENT
BEGIN:VEVENT
DTSTART;TZID=America/Detroit:20250627T193000
DTEND;TZID=America/Detroit:20250627T213000
DTSTAMP:20260421T220720
CREATED:20250515T163036Z
LAST-MODIFIED:20250515T163042Z
UID:17462-1751052600-1751059800@ramsdelltheatre.org
SUMMARY:Dueling Pianos
DESCRIPTION:
URL:https://ramsdelltheatre.org/event/dueling-pianos/
LOCATION:MI
END:VEVENT
BEGIN:VEVENT
DTSTART;TZID=America/Detroit:20250613T193000
DTEND;TZID=America/Detroit:20250613T213000
DTSTAMP:20260421T220720
CREATED:20250515T162842Z
LAST-MODIFIED:20250515T162845Z
UID:17459-1749843000-1749850200@ramsdelltheatre.org
SUMMARY:THE TIPSY ROOSTERS
DESCRIPTION:
URL:https://ramsdelltheatre.org/event/the-tipsy-roosters/
LOCATION:MI
END:VEVENT
BEGIN:VEVENT
DTSTART;TZID=America/Detroit:20250608T140000
DTEND;TZID=America/Detroit:20250608T160000
DTSTAMP:20260421T220720
CREATED:20250515T162605Z
LAST-MODIFIED:20250515T162608Z
UID:17456-1749391200-1749398400@ramsdelltheatre.org
SUMMARY:126th ARMY BAND (Michigan Army National Guard)
DESCRIPTION:
URL:https://ramsdelltheatre.org/event/126th-army-band-michigan-army-national-guard/
LOCATION:MI
END:VEVENT
BEGIN:VEVENT
DTSTART;TZID=America/Detroit:20250531T130000
DTEND;TZID=America/Detroit:20250531T163000
DTSTAMP:20260421T220720
CREATED:20250515T164246Z
LAST-MODIFIED:20250515T164249Z
UID:17468-1748696400-1748709000@ramsdelltheatre.org
SUMMARY:MET OPERA (IL BARBIERE DI SIVIGLIA)
DESCRIPTION:
URL:https://ramsdelltheatre.org/event/met-opera-il-barbiere-di-siviglia/
LOCATION:MI
END:VEVENT
BEGIN:VEVENT
DTSTART;TZID=America/Detroit:20250530T193000
DTEND;TZID=America/Detroit:20250530T213000
DTSTAMP:20260421T220720
CREATED:20250515T162220Z
LAST-MODIFIED:20250515T162224Z
UID:17453-1748633400-1748640600@ramsdelltheatre.org
SUMMARY:Lookin Forward-Crosby\, Stills\, Nash & Young Tribute
DESCRIPTION:
URL:https://ramsdelltheatre.org/event/lookin-forward-crosby-stills-nash-young-tribute/
LOCATION:MI
END:VEVENT
BEGIN:VEVENT
DTSTART;TZID=America/Detroit:20250517T130000
DTEND;TZID=America/Detroit:20250517T163000
DTSTAMP:20260421T220720
CREATED:20250515T164043Z
LAST-MODIFIED:20250515T164046Z
UID:17465-1747486800-1747499400@ramsdelltheatre.org
SUMMARY:MET OPERA (SALOME)
DESCRIPTION:
URL:https://ramsdelltheatre.org/event/met-opera-salome/
LOCATION:MI
END:VEVENT
BEGIN:VEVENT
DTSTART;TZID=America/Detroit:20250516T193000
DTEND;TZID=America/Detroit:20250516T213000
DTSTAMP:20260421T220720
CREATED:20250515T161650Z
LAST-MODIFIED:20250515T161932Z
UID:17449-1747423800-1747431000@ramsdelltheatre.org
SUMMARY:The Greg Nagy Band
DESCRIPTION:
URL:https://ramsdelltheatre.org/event/17449/
LOCATION:MI
END:VEVENT
BEGIN:VEVENT
DTSTART;TZID=America/Detroit:20250321T193000
DTEND;TZID=America/Detroit:20250321T213000
DTSTAMP:20260421T220720
CREATED:20250314T145247Z
LAST-MODIFIED:20250314T145251Z
UID:17370-1742585400-1742592600@ramsdelltheatre.org
SUMMARY:Dixon's Violin
DESCRIPTION:
URL:https://ramsdelltheatre.org/event/dixons-violin/
LOCATION:Ramsdell Regional Center for the Arts\, 101 Maple Street\, Manistee\, MI\, 49660\, United States
END:VEVENT
BEGIN:VEVENT
DTSTART;TZID=America/Detroit:20250316T140000
DTEND;TZID=America/Detroit:20250316T160000
DTSTAMP:20260421T220720
CREATED:20250314T145045Z
LAST-MODIFIED:20250314T145051Z
UID:17367-1742133600-1742140800@ramsdelltheatre.org
SUMMARY:Pub Runners
DESCRIPTION:
URL:https://ramsdelltheatre.org/event/pub-runners-3/
LOCATION:MI
END:VEVENT
BEGIN:VEVENT
DTSTART;TZID=America/Detroit:20250314T170000
DTEND;TZID=America/Detroit:20250314T190000
DTSTAMP:20260421T220720
CREATED:20250314T145423Z
LAST-MODIFIED:20250314T145428Z
UID:17374-1741971600-1741978800@ramsdelltheatre.org
SUMMARY:Land and Myth Exhibit Opening Reception
DESCRIPTION:
URL:https://ramsdelltheatre.org/event/land-and-myth-exhibit-opening-reception/
LOCATION:MI
END:VEVENT
END:VCALENDAR