BEGIN:VCALENDAR
VERSION:2.0
PRODID:-//Ramsdell Theatre &amp; Regional Center for the Arts - ECPv6.15.15//NONSGML v1.0//EN
CALSCALE:GREGORIAN
METHOD:PUBLISH
X-ORIGINAL-URL:https://ramsdelltheatre.org
X-WR-CALDESC:Events for Ramsdell Theatre &amp; Regional Center for the Arts
REFRESH-INTERVAL;VALUE=DURATION:PT1H
X-Robots-Tag:noindex
X-PUBLISHED-TTL:PT1H
BEGIN:VTIMEZONE
TZID:America/Detroit
BEGIN:DAYLIGHT
TZOFFSETFROM:-0500
TZOFFSETTO:-0400
TZNAME:EDT
DTSTART:20250309T070000
END:DAYLIGHT
BEGIN:STANDARD
TZOFFSETFROM:-0400
TZOFFSETTO:-0500
TZNAME:EST
DTSTART:20251102T060000
END:STANDARD
BEGIN:DAYLIGHT
TZOFFSETFROM:-0500
TZOFFSETTO:-0400
TZNAME:EDT
DTSTART:20260308T070000
END:DAYLIGHT
BEGIN:STANDARD
TZOFFSETFROM:-0400
TZOFFSETTO:-0500
TZNAME:EST
DTSTART:20261101T060000
END:STANDARD
BEGIN:DAYLIGHT
TZOFFSETFROM:-0500
TZOFFSETTO:-0400
TZNAME:EDT
DTSTART:20270314T070000
END:DAYLIGHT
BEGIN:STANDARD
TZOFFSETFROM:-0400
TZOFFSETTO:-0500
TZNAME:EST
DTSTART:20271107T060000
END:STANDARD
END:VTIMEZONE
BEGIN:VEVENT
DTSTART;TZID=America/Detroit:20260814T193000
DTEND;TZID=America/Detroit:20260814T213000
DTSTAMP:20260421T172338
CREATED:20260206T201058Z
LAST-MODIFIED:20260206T201058Z
UID:19789-1786735800-1786743000@ramsdelltheatre.org
SUMMARY:Greggie and the Jets-A Tribute to Elton John
DESCRIPTION:GREGGIE AND THE JETS\nA LIVE recreation of a classic ELTON concert\n\nGreggie and the Jets catapults you into the heart of Elton John’s classic era with a dazzling tribute that captivates fans.  This Florida based Elton John Tribute Band’s performance will have you singing and dancing as the band takes you on a journey through the decades.  Following the original arrangements to reproduce Elton John’s classic sound and bring the emotion that is so strongly embedded in the music\, Greggie and the Jets delivers the spirit and magic of each track.  You won’t want to miss this fabulous energetic show!
URL:https://ramsdelltheatre.org/event/greggie-and-the-jets-a-tribute-to-elton-john/
LOCATION:Ramsdell Regional Center for the Arts\, 101 Maple Street\, Manistee\, MI\, 49660\, United States
ORGANIZER;CN="RRCA":MAILTO:lortiz@ramsdelltheatre.org
END:VEVENT
END:VCALENDAR