BEGIN:VCALENDAR
VERSION:2.0
PRODID:-//Ramsdell Theatre &amp; Regional Center for the Arts - ECPv6.15.15//NONSGML v1.0//EN
CALSCALE:GREGORIAN
METHOD:PUBLISH
X-WR-CALNAME:Ramsdell Theatre &amp; Regional Center for the Arts
X-ORIGINAL-URL:https://ramsdelltheatre.org
X-WR-CALDESC:Events for Ramsdell Theatre &amp; Regional Center for the Arts
REFRESH-INTERVAL;VALUE=DURATION:PT1H
X-Robots-Tag:noindex
X-PUBLISHED-TTL:PT1H
BEGIN:VTIMEZONE
TZID:America/Detroit
BEGIN:DAYLIGHT
TZOFFSETFROM:-0500
TZOFFSETTO:-0400
TZNAME:EDT
DTSTART:20250309T070000
END:DAYLIGHT
BEGIN:STANDARD
TZOFFSETFROM:-0400
TZOFFSETTO:-0500
TZNAME:EST
DTSTART:20251102T060000
END:STANDARD
BEGIN:DAYLIGHT
TZOFFSETFROM:-0500
TZOFFSETTO:-0400
TZNAME:EDT
DTSTART:20260308T070000
END:DAYLIGHT
BEGIN:STANDARD
TZOFFSETFROM:-0400
TZOFFSETTO:-0500
TZNAME:EST
DTSTART:20261101T060000
END:STANDARD
BEGIN:DAYLIGHT
TZOFFSETFROM:-0500
TZOFFSETTO:-0400
TZNAME:EDT
DTSTART:20270314T070000
END:DAYLIGHT
BEGIN:STANDARD
TZOFFSETFROM:-0400
TZOFFSETTO:-0500
TZNAME:EST
DTSTART:20271107T060000
END:STANDARD
END:VTIMEZONE
BEGIN:VEVENT
DTSTART;TZID=America/Detroit:20260802T130000
DTEND;TZID=America/Detroit:20260802T150000
DTSTAMP:20260424T151939
CREATED:20260417T151319Z
LAST-MODIFIED:20260417T151319Z
UID:19988-1785675600-1785682800@ramsdelltheatre.org
SUMMARY:MCP Performance "Annie"
DESCRIPTION:Leapin’ Lizards! Annie is a spunky orphan in 1930s New York City determined to find her parents. In one fun-filled adventure after another\, Annie foils Miss Hannigan’s evil schemes\, befriends President Roosevelt and finds a new home with billionaire Oliver Warbucks\, his personal secretary Grace and a lovable mutt named Sandy. This Tony Award-winning Best Musical for the entire family features some of the greatest musical theatre hits ever written including “It’s the Hard Knock Life\,” “Easy Street\,” “I Don’t Need Anything But You\,” plus the eternal anthem of optimism\, “Tomorrow.” Annie will fill your heart with joy! \n  \nTicket information coming soon.
URL:https://ramsdelltheatre.org/event/mcp-performance-annie-3/
LOCATION:Ramsdell Regional Center for the Arts\, 101 Maple Street\, Manistee\, MI\, 49660\, United States
ORGANIZER;CN="RRCA":MAILTO:lortiz@ramsdelltheatre.org
END:VEVENT
END:VCALENDAR