BEGIN:VCALENDAR
VERSION:2.0
PRODID:-//Ramsdell Theatre &amp; Regional Center for the Arts - ECPv6.15.15//NONSGML v1.0//EN
CALSCALE:GREGORIAN
METHOD:PUBLISH
X-ORIGINAL-URL:https://ramsdelltheatre.org
X-WR-CALDESC:Events for Ramsdell Theatre &amp; Regional Center for the Arts
REFRESH-INTERVAL;VALUE=DURATION:PT1H
X-Robots-Tag:noindex
X-PUBLISHED-TTL:PT1H
BEGIN:VTIMEZONE
TZID:America/Detroit
BEGIN:DAYLIGHT
TZOFFSETFROM:-0500
TZOFFSETTO:-0400
TZNAME:EDT
DTSTART:20250309T070000
END:DAYLIGHT
BEGIN:STANDARD
TZOFFSETFROM:-0400
TZOFFSETTO:-0500
TZNAME:EST
DTSTART:20251102T060000
END:STANDARD
BEGIN:DAYLIGHT
TZOFFSETFROM:-0500
TZOFFSETTO:-0400
TZNAME:EDT
DTSTART:20260308T070000
END:DAYLIGHT
BEGIN:STANDARD
TZOFFSETFROM:-0400
TZOFFSETTO:-0500
TZNAME:EST
DTSTART:20261101T060000
END:STANDARD
BEGIN:DAYLIGHT
TZOFFSETFROM:-0500
TZOFFSETTO:-0400
TZNAME:EDT
DTSTART:20270314T070000
END:DAYLIGHT
BEGIN:STANDARD
TZOFFSETFROM:-0400
TZOFFSETTO:-0500
TZNAME:EST
DTSTART:20271107T060000
END:STANDARD
END:VTIMEZONE
BEGIN:VEVENT
DTSTART;TZID=America/Detroit:20260508T120000
DTEND;TZID=America/Detroit:20260605T150000
DTSTAMP:20260424T130337
CREATED:20260411T201115Z
LAST-MODIFIED:20260411T201115Z
UID:19931-1778241600-1780671600@ramsdelltheatre.org
SUMMARY:The Art of the Tattoo
DESCRIPTION:The Art of the Tattoo \nTattoos are more than ink on skin\, they are deeply personal works of art that commemorate life’s most \nmeaningful moments.  From celebrations and milestone to tributes\, traditional\, and personal \n \ntransformations\, there is a tattoo for every occasion.  Each design carries a unique story\, reflecting identity\, \nmemory\, and emotion. \nThe Art of the Tattoo explores the beauty and artistry behind this timeless form of self-expression. \nShowcasing a diverse range of styles\, culture\, and inspirations.  The exhibit invites viewers to  appreciate \ntattoos not only as personal symbols but also as powerful works of art.  Through these stories etched in \nink\, we celebrate the creativity\, craftsmanship\, and human experiences that make tattooing a truly \nmeaningful art form!
URL:https://ramsdelltheatre.org/event/the-art-of-the-tattoo/
LOCATION:MI
END:VEVENT
BEGIN:VEVENT
DTSTART;TZID=America/Detroit:20260530T130000
DTEND;TZID=America/Detroit:20260530T160000
DTSTAMP:20260424T130337
CREATED:20260417T150146Z
LAST-MODIFIED:20260417T150146Z
UID:19970-1780146000-1780156800@ramsdelltheatre.org
SUMMARY:MET Opera "El ultimo sueno De Friday Y Diego (Gabriela Lena Frank)
DESCRIPTION:American composer Gabriela Lena Frank makes her Met debut with her first opera\, a magical-realist portrait of Mexico’s painterly power couple Frida Kahlo and Diego Rivera\, with libretto by Pulitzer Prize–winning playwright Nilo Cruz. Fashioned as a reversal of the Orpheus and Euridice myth\, the story depicts Frida\, sung by leading mezzo-soprano Isabel Leonard\, leaving the underworld on the Day of the Dead and reuniting with Diego\, portrayed by baritone Carlos Álvarez. The famously feuding pair briefly relive their tumultuous love\, embracing both the passion and the pain before bidding the land of the living a final farewell. Yannick Nézet-Séguin conducts the Met premiere of Frank’s opera\, a “confident\, richly imagined score” (The New Yorker) that “bursts with color and fresh individuality” (Los Angeles Times). The vibrant new production\, taking enthusiastic inspiration from Frida and Diego’s paintings\, is directed and choreographed by Deborah Colker\, following her remarkable 2024 debut staging of Ainadamar. \n168 minutes \nEL ULTIMO SUENO DE FRIDA Y DIEGO (Gabriela Lena Frank – Libretto by Nilo Cruz) \n$15.00 (Students) – $25.00 including fees
URL:https://ramsdelltheatre.org/event/met-opera-el-ultimo-sueno-de-friday-y-diego-gabriela-lena-frank/
LOCATION:Ramsdell Regional Center for the Arts\, 101 Maple Street\, Manistee\, MI\, 49660\, United States
ORGANIZER;CN="RRCA":MAILTO:lortiz@ramsdelltheatre.org
END:VEVENT
END:VCALENDAR