BEGIN:VCALENDAR
VERSION:2.0
PRODID:-//Ramsdell Theatre &amp; Regional Center for the Arts - ECPv6.15.15//NONSGML v1.0//EN
CALSCALE:GREGORIAN
METHOD:PUBLISH
X-ORIGINAL-URL:https://ramsdelltheatre.org
X-WR-CALDESC:Events for Ramsdell Theatre &amp; Regional Center for the Arts
REFRESH-INTERVAL;VALUE=DURATION:PT1H
X-Robots-Tag:noindex
X-PUBLISHED-TTL:PT1H
BEGIN:VTIMEZONE
TZID:America/Detroit
BEGIN:DAYLIGHT
TZOFFSETFROM:-0500
TZOFFSETTO:-0400
TZNAME:EDT
DTSTART:20250309T070000
END:DAYLIGHT
BEGIN:STANDARD
TZOFFSETFROM:-0400
TZOFFSETTO:-0500
TZNAME:EST
DTSTART:20251102T060000
END:STANDARD
BEGIN:DAYLIGHT
TZOFFSETFROM:-0500
TZOFFSETTO:-0400
TZNAME:EDT
DTSTART:20260308T070000
END:DAYLIGHT
BEGIN:STANDARD
TZOFFSETFROM:-0400
TZOFFSETTO:-0500
TZNAME:EST
DTSTART:20261101T060000
END:STANDARD
BEGIN:DAYLIGHT
TZOFFSETFROM:-0500
TZOFFSETTO:-0400
TZNAME:EDT
DTSTART:20270314T070000
END:DAYLIGHT
BEGIN:STANDARD
TZOFFSETFROM:-0400
TZOFFSETTO:-0500
TZNAME:EST
DTSTART:20271107T060000
END:STANDARD
END:VTIMEZONE
BEGIN:VEVENT
DTSTART;TZID=America/Detroit:20260417T120000
DTEND;TZID=America/Detroit:20260424T150000
DTSTAMP:20260421T125651
CREATED:20260416T194215Z
LAST-MODIFIED:20260416T194215Z
UID:19940-1776427200-1777042800@ramsdelltheatre.org
SUMMARY:Intersections
DESCRIPTION:Intersections showcases the creativity and perspective of student artists from Manistee Area Public Schools\, \non view April 17-24.  This vibrant exhibit highlights the ways young artists explore where ideas\, identities\, \nand experiences meet\, revealing powerful moments of connection and expression. \nPlease join us for the opening reception on Friday\, April 17th from 5-7 pm.  Helping us celebrate these talented \nstudents and their work.  Come support emerging artists\, encourage their creative journeys\, and experience \nthe fresh\, inspiring voices of the next generation.
URL:https://ramsdelltheatre.org/event/intersections-2/
LOCATION:Ramsdell Regional Center for the Arts\, 101 Maple Street\, Manistee\, MI\, 49660\, United States
ORGANIZER;CN="RRCA":MAILTO:lortiz@ramsdelltheatre.org
END:VEVENT
BEGIN:VEVENT
DTSTART;TZID=America/Detroit:20260418T190000
DTEND;TZID=America/Detroit:20260418T220000
DTSTAMP:20260421T125651
CREATED:20260417T143013Z
LAST-MODIFIED:20260417T143013Z
UID:19957-1776538800-1776549600@ramsdelltheatre.org
SUMMARY:Private Event
DESCRIPTION:
URL:https://ramsdelltheatre.org/event/private-event-5/
LOCATION:MI
END:VEVENT
END:VCALENDAR