BEGIN:VCALENDAR
VERSION:2.0
PRODID:-//Ramsdell Theatre &amp; Regional Center for the Arts - ECPv6.15.15//NONSGML v1.0//EN
CALSCALE:GREGORIAN
METHOD:PUBLISH
X-ORIGINAL-URL:https://ramsdelltheatre.org
X-WR-CALDESC:Events for Ramsdell Theatre &amp; Regional Center for the Arts
REFRESH-INTERVAL;VALUE=DURATION:PT1H
X-Robots-Tag:noindex
X-PUBLISHED-TTL:PT1H
BEGIN:VTIMEZONE
TZID:America/Detroit
BEGIN:DAYLIGHT
TZOFFSETFROM:-0500
TZOFFSETTO:-0400
TZNAME:EDT
DTSTART:20250309T070000
END:DAYLIGHT
BEGIN:STANDARD
TZOFFSETFROM:-0400
TZOFFSETTO:-0500
TZNAME:EST
DTSTART:20251102T060000
END:STANDARD
BEGIN:DAYLIGHT
TZOFFSETFROM:-0500
TZOFFSETTO:-0400
TZNAME:EDT
DTSTART:20260308T070000
END:DAYLIGHT
BEGIN:STANDARD
TZOFFSETFROM:-0400
TZOFFSETTO:-0500
TZNAME:EST
DTSTART:20261101T060000
END:STANDARD
BEGIN:DAYLIGHT
TZOFFSETFROM:-0500
TZOFFSETTO:-0400
TZNAME:EDT
DTSTART:20270314T070000
END:DAYLIGHT
BEGIN:STANDARD
TZOFFSETFROM:-0400
TZOFFSETTO:-0500
TZNAME:EST
DTSTART:20271107T060000
END:STANDARD
END:VTIMEZONE
BEGIN:VEVENT
DTSTART;TZID=America/Detroit:20260130T123000
DTEND;TZID=America/Detroit:20260130T133000
DTSTAMP:20260421T152721
CREATED:20251219T205419Z
LAST-MODIFIED:20251219T205423Z
UID:19532-1769776200-1769779800@ramsdelltheatre.org
SUMMARY:January Series-Sabrina Little
DESCRIPTION:“Sports as a laboratory for virtue.” \nSabrina Little will explore how sports can act as a laboratory for developing our character. Drawing on her experience as a philosopher and ultramarathon runner\, Sabrina shares practical insights into how sports can develop virtue\, foster moral development\, and avoid the possibility of forming a vice instead. \nSabrina Little is a philosopher at the Chase Center at Ohio State University\, specializing in virtue theory\, character education\, and moral psychology. Her book\, The Examined Run\, blends philosophical insight with athletic experience to illuminate how sport can shape character. A five-time U.S. National Champion and World Silver Medalist in trail and ultramarathon running\, Sabrina brings a unique perspective to the intersection of ethics and athletics.   \nFollow Sabrina on X\, or learn more about her at www.sabrinalittle.com. 
URL:https://ramsdelltheatre.org/event/january-series-sabrina-little/
LOCATION:Ramsdell Regional Center for the Arts\, 101 Maple Street\, Manistee\, MI\, 49660\, United States
ORGANIZER;CN="RRCA":MAILTO:lortiz@ramsdelltheatre.org
END:VEVENT
END:VCALENDAR