BEGIN:VCALENDAR
VERSION:2.0
PRODID:-//Ramsdell Theatre &amp; Regional Center for the Arts - ECPv6.15.15//NONSGML v1.0//EN
CALSCALE:GREGORIAN
METHOD:PUBLISH
X-ORIGINAL-URL:https://ramsdelltheatre.org
X-WR-CALDESC:Events for Ramsdell Theatre &amp; Regional Center for the Arts
REFRESH-INTERVAL;VALUE=DURATION:PT1H
X-Robots-Tag:noindex
X-PUBLISHED-TTL:PT1H
BEGIN:VTIMEZONE
TZID:America/Detroit
BEGIN:DAYLIGHT
TZOFFSETFROM:-0500
TZOFFSETTO:-0400
TZNAME:EDT
DTSTART:20250309T070000
END:DAYLIGHT
BEGIN:STANDARD
TZOFFSETFROM:-0400
TZOFFSETTO:-0500
TZNAME:EST
DTSTART:20251102T060000
END:STANDARD
BEGIN:DAYLIGHT
TZOFFSETFROM:-0500
TZOFFSETTO:-0400
TZNAME:EDT
DTSTART:20260308T070000
END:DAYLIGHT
BEGIN:STANDARD
TZOFFSETFROM:-0400
TZOFFSETTO:-0500
TZNAME:EST
DTSTART:20261101T060000
END:STANDARD
BEGIN:DAYLIGHT
TZOFFSETFROM:-0500
TZOFFSETTO:-0400
TZNAME:EDT
DTSTART:20270314T070000
END:DAYLIGHT
BEGIN:STANDARD
TZOFFSETFROM:-0400
TZOFFSETTO:-0500
TZNAME:EST
DTSTART:20271107T060000
END:STANDARD
END:VTIMEZONE
BEGIN:VEVENT
DTSTART;TZID=America/Detroit:20260129T123000
DTEND;TZID=America/Detroit:20260129T133000
DTSTAMP:20260421T152721
CREATED:20251219T205236Z
LAST-MODIFIED:20251219T205246Z
UID:19528-1769689800-1769693400@ramsdelltheatre.org
SUMMARY:January Series-Tom Medema
DESCRIPTION:“America at 250: How our national parks inspire a more perfect union” \nTom Medema will explore how America’s National Parks serve as living classrooms. Drawing on decades of experience as a ranger and senior leader in the National Park Service\, Tom shares powerful stories that illuminate how these treasured landscapes contribute to America’s story over the past 250 years.\n\nTom Medema served 35 years with the National Park Service\, retiring as Associate Director and “Chief Storytelling Officer” for over 430 national park sites. Recipient of numerous awards for his contributions to education and interpretation and co-founder of Rally for Rangers\, Tom currently consults with America250 to shape the nation’s ongoing 250th anniversary.
URL:https://ramsdelltheatre.org/event/january-series-tom-medema/
LOCATION:Ramsdell Regional Center for the Arts\, 101 Maple Street\, Manistee\, MI\, 49660\, United States
ORGANIZER;CN="RRCA":MAILTO:lortiz@ramsdelltheatre.org
END:VEVENT
END:VCALENDAR