BEGIN:VCALENDAR
VERSION:2.0
PRODID:-//Ramsdell Theatre &amp; Regional Center for the Arts - ECPv6.15.15//NONSGML v1.0//EN
CALSCALE:GREGORIAN
METHOD:PUBLISH
X-WR-CALNAME:Ramsdell Theatre &amp; Regional Center for the Arts
X-ORIGINAL-URL:https://ramsdelltheatre.org
X-WR-CALDESC:Events for Ramsdell Theatre &amp; Regional Center for the Arts
REFRESH-INTERVAL;VALUE=DURATION:PT1H
X-Robots-Tag:noindex
X-PUBLISHED-TTL:PT1H
BEGIN:VTIMEZONE
TZID:America/Detroit
BEGIN:DAYLIGHT
TZOFFSETFROM:-0500
TZOFFSETTO:-0400
TZNAME:EDT
DTSTART:20250309T070000
END:DAYLIGHT
BEGIN:STANDARD
TZOFFSETFROM:-0400
TZOFFSETTO:-0500
TZNAME:EST
DTSTART:20251102T060000
END:STANDARD
BEGIN:DAYLIGHT
TZOFFSETFROM:-0500
TZOFFSETTO:-0400
TZNAME:EDT
DTSTART:20260308T070000
END:DAYLIGHT
BEGIN:STANDARD
TZOFFSETFROM:-0400
TZOFFSETTO:-0500
TZNAME:EST
DTSTART:20261101T060000
END:STANDARD
BEGIN:DAYLIGHT
TZOFFSETFROM:-0500
TZOFFSETTO:-0400
TZNAME:EDT
DTSTART:20270314T070000
END:DAYLIGHT
BEGIN:STANDARD
TZOFFSETFROM:-0400
TZOFFSETTO:-0500
TZNAME:EST
DTSTART:20271107T060000
END:STANDARD
END:VTIMEZONE
BEGIN:VEVENT
DTSTART;TZID=America/Detroit:20260128T123000
DTEND;TZID=America/Detroit:20260128T133000
DTSTAMP:20260421T152630
CREATED:20251219T205039Z
LAST-MODIFIED:20251219T205042Z
UID:19524-1769603400-1769607000@ramsdelltheatre.org
SUMMARY:January Series-Wu Man
DESCRIPTION:“The Pipa-A Musical Bridge Between Cultures.” \nWu Man will share how the pipa\, a pear-shaped\, four-stringed Chinese lute\, serves as a bridge between cultures. Through music and storytelling\, she explores how this ancient instrument has helped her connect with her heritage and engage audiences across the globe. Drawing on decades of performance\, composition\, and cross-cultural collaboration\, Wu Man offers a compelling vision of music as a tool for understanding and unity.\n\nWu Man is recognized as the world’s premier pipa virtuoso and a leading ambassador of Chinese music. Wu is a Grammy Award winner and the first artist from China to perform at the White House. A soloist\, composer\, and educator\, she has premiered hundreds of new works for the pipa while preserving and promoting China’s ancient musical traditions.
URL:https://ramsdelltheatre.org/event/january-series-wu-man/
LOCATION:Ramsdell Regional Center for the Arts\, 101 Maple Street\, Manistee\, MI\, 49660\, United States
ORGANIZER;CN="RRCA":MAILTO:lortiz@ramsdelltheatre.org
END:VEVENT
END:VCALENDAR