BEGIN:VCALENDAR
VERSION:2.0
PRODID:-//Ramsdell Theatre &amp; Regional Center for the Arts - ECPv6.15.15//NONSGML v1.0//EN
CALSCALE:GREGORIAN
METHOD:PUBLISH
X-WR-CALNAME:Ramsdell Theatre &amp; Regional Center for the Arts
X-ORIGINAL-URL:https://ramsdelltheatre.org
X-WR-CALDESC:Events for Ramsdell Theatre &amp; Regional Center for the Arts
REFRESH-INTERVAL;VALUE=DURATION:PT1H
X-Robots-Tag:noindex
X-PUBLISHED-TTL:PT1H
BEGIN:VTIMEZONE
TZID:America/Detroit
BEGIN:DAYLIGHT
TZOFFSETFROM:-0500
TZOFFSETTO:-0400
TZNAME:EDT
DTSTART:20250309T070000
END:DAYLIGHT
BEGIN:STANDARD
TZOFFSETFROM:-0400
TZOFFSETTO:-0500
TZNAME:EST
DTSTART:20251102T060000
END:STANDARD
BEGIN:DAYLIGHT
TZOFFSETFROM:-0500
TZOFFSETTO:-0400
TZNAME:EDT
DTSTART:20260308T070000
END:DAYLIGHT
BEGIN:STANDARD
TZOFFSETFROM:-0400
TZOFFSETTO:-0500
TZNAME:EST
DTSTART:20261101T060000
END:STANDARD
BEGIN:DAYLIGHT
TZOFFSETFROM:-0500
TZOFFSETTO:-0400
TZNAME:EDT
DTSTART:20270314T070000
END:DAYLIGHT
BEGIN:STANDARD
TZOFFSETFROM:-0400
TZOFFSETTO:-0500
TZNAME:EST
DTSTART:20271107T060000
END:STANDARD
END:VTIMEZONE
BEGIN:VEVENT
DTSTART;TZID=America/Detroit:20260123T123000
DTEND;TZID=America/Detroit:20260123T133000
DTSTAMP:20260421T164826
CREATED:20251219T204340Z
LAST-MODIFIED:20251219T204343Z
UID:19511-1769171400-1769175000@ramsdelltheatre.org
SUMMARY:January Series-Harry Smith
DESCRIPTION:“Less is more. More is less.” \nHarry Smith will share insights on how simplifying life can create more meaning\, satisfaction\, and peace. Drawing on decades of storytelling as an Emmy- and Peabody-winning journalist\, Harry offers reflections on balance\, fulfillment\, and what truly matters. \n\n\nHarry Smith is a professor at Central College in Pella\, Iowa\, where he teaches on curiosity and adaptability. He is the recipient of four Emmys\, a Peabody Award\, and the Edward R. Murrow Lifetime Achievement Award in Journalism. A former NBC and CBS News reporter and anchor\, Harry has spent nearly four decades covering stories from all 50 states and every continent.
URL:https://ramsdelltheatre.org/event/january-series-harry-smith/
LOCATION:Ramsdell Regional Center for the Arts\, 101 Maple Street\, Manistee\, MI\, 49660\, United States
ORGANIZER;CN="RRCA":MAILTO:lortiz@ramsdelltheatre.org
END:VEVENT
END:VCALENDAR