BEGIN:VCALENDAR
VERSION:2.0
PRODID:-//Ramsdell Theatre &amp; Regional Center for the Arts - ECPv6.15.15//NONSGML v1.0//EN
CALSCALE:GREGORIAN
METHOD:PUBLISH
X-ORIGINAL-URL:https://ramsdelltheatre.org
X-WR-CALDESC:Events for Ramsdell Theatre &amp; Regional Center for the Arts
REFRESH-INTERVAL;VALUE=DURATION:PT1H
X-Robots-Tag:noindex
X-PUBLISHED-TTL:PT1H
BEGIN:VTIMEZONE
TZID:America/Detroit
BEGIN:DAYLIGHT
TZOFFSETFROM:-0500
TZOFFSETTO:-0400
TZNAME:EDT
DTSTART:20250309T070000
END:DAYLIGHT
BEGIN:STANDARD
TZOFFSETFROM:-0400
TZOFFSETTO:-0500
TZNAME:EST
DTSTART:20251102T060000
END:STANDARD
BEGIN:DAYLIGHT
TZOFFSETFROM:-0500
TZOFFSETTO:-0400
TZNAME:EDT
DTSTART:20260308T070000
END:DAYLIGHT
BEGIN:STANDARD
TZOFFSETFROM:-0400
TZOFFSETTO:-0500
TZNAME:EST
DTSTART:20261101T060000
END:STANDARD
BEGIN:DAYLIGHT
TZOFFSETFROM:-0500
TZOFFSETTO:-0400
TZNAME:EDT
DTSTART:20270314T070000
END:DAYLIGHT
BEGIN:STANDARD
TZOFFSETFROM:-0400
TZOFFSETTO:-0500
TZNAME:EST
DTSTART:20271107T060000
END:STANDARD
END:VTIMEZONE
BEGIN:VEVENT
DTSTART;TZID=America/Detroit:20260117T130000
DTEND;TZID=America/Detroit:20260117T160000
DTSTAMP:20260421T164341
CREATED:20260104T001033Z
LAST-MODIFIED:20260109T171343Z
UID:19548-1768654800-1768665600@ramsdelltheatre.org
SUMMARY:MET Opera-ANDREA CHENIER (Giordano)
DESCRIPTION:Giordano’s passionate tragedy stars tenor Piotr Beczała as the virtuous poet who falls victim to the intrigue and violence of the French Revolution. Following their celebrated recent partnership in Giordano’s Fedora\, Beczała reunites with soprano Sonya Yoncheva as Chénier’s aristocratic lover\, Maddalena di Coigny\, with baritone Igor Golovatenko as Carlo Gérard\, the agent of the Reign of Terror who seals their fates. Daniele Rustioni takes the podium to lead Nicolas Joël’s gripping staging.
URL:https://ramsdelltheatre.org/event/met-opera-andrea-chenier-giordano/
LOCATION:Ramsdell Regional Center for the Arts\, 101 Maple Street\, Manistee\, MI\, 49660\, United States
ATTACH;FMTTYPE=image/png:https://ramsdelltheatre.org/wp-content/uploads/2025/10/Andrea.png
ORGANIZER;CN="RRCA":MAILTO:lortiz@ramsdelltheatre.org
END:VEVENT
BEGIN:VEVENT
DTSTART;TZID=America/Detroit:20260117T180000
DTEND;TZID=America/Detroit:20260117T200000
DTSTAMP:20260421T164341
CREATED:20260103T235916Z
LAST-MODIFIED:20260109T171418Z
UID:19540-1768672800-1768680000@ramsdelltheatre.org
SUMMARY:"Gather Round"
DESCRIPTION:“Gather Round” is a FREE community concert.  All are welcomed to join us and musicians Brandon Heaton\, Will Shinn\, & Josh Meisenheimer for an evening of Folk music.  This event will be held in Hardy Hall.  Charcuterie board (finger foods) is sponsored by Randy Z Group & Z’s Cart Rentals.  There will be a cash bar and plenty of space to sit\, relax and enjoy the evening. \nThis is a free concert but donation are gladly accepted!
URL:https://ramsdelltheatre.org/event/gather-round/
LOCATION:Ramsdell Regional Center for the Arts\, 101 Maple Street\, Manistee\, MI\, 49660\, United States
ATTACH;FMTTYPE=image/png:https://ramsdelltheatre.org/wp-content/uploads/2026/01/Join-us-in-Hardy-Hall-for-a-FREE-community-event.-Featuring-Musicians-Brandon-Heaton-Will-Shinn-Josh-Meisenheimer-1.png
ORGANIZER;CN="RRCA":MAILTO:lortiz@ramsdelltheatre.org
END:VEVENT
END:VCALENDAR