BEGIN:VCALENDAR
VERSION:2.0
PRODID:-//Ramsdell Theatre &amp; Regional Center for the Arts - ECPv6.15.15//NONSGML v1.0//EN
CALSCALE:GREGORIAN
METHOD:PUBLISH
X-ORIGINAL-URL:https://ramsdelltheatre.org
X-WR-CALDESC:Events for Ramsdell Theatre &amp; Regional Center for the Arts
REFRESH-INTERVAL;VALUE=DURATION:PT1H
X-Robots-Tag:noindex
X-PUBLISHED-TTL:PT1H
BEGIN:VTIMEZONE
TZID:America/Detroit
BEGIN:DAYLIGHT
TZOFFSETFROM:-0500
TZOFFSETTO:-0400
TZNAME:EDT
DTSTART:20250309T070000
END:DAYLIGHT
BEGIN:STANDARD
TZOFFSETFROM:-0400
TZOFFSETTO:-0500
TZNAME:EST
DTSTART:20251102T060000
END:STANDARD
BEGIN:DAYLIGHT
TZOFFSETFROM:-0500
TZOFFSETTO:-0400
TZNAME:EDT
DTSTART:20260308T070000
END:DAYLIGHT
BEGIN:STANDARD
TZOFFSETFROM:-0400
TZOFFSETTO:-0500
TZNAME:EST
DTSTART:20261101T060000
END:STANDARD
BEGIN:DAYLIGHT
TZOFFSETFROM:-0500
TZOFFSETTO:-0400
TZNAME:EDT
DTSTART:20270314T070000
END:DAYLIGHT
BEGIN:STANDARD
TZOFFSETFROM:-0400
TZOFFSETTO:-0500
TZNAME:EST
DTSTART:20271107T060000
END:STANDARD
END:VTIMEZONE
BEGIN:VEVENT
DTSTART;TZID=America/Detroit:20260110T130000
DTEND;TZID=America/Detroit:20260110T160000
DTSTAMP:20260421T164349
CREATED:20251219T213837Z
LAST-MODIFIED:20260109T170221Z
UID:19536-1768050000-1768060800@ramsdelltheatre.org
SUMMARY:MET Opera-I PURITANI (Bellini)
DESCRIPTION:For gorgeous melody\, spellbinding coloratura\, and virtuoso vocal fireworks\, I Puritani has few equals. On New Year’s Eve\, the curtain goes up on the first new Met production of Bellini’s final masterpiece in nearly 50 years—a striking staging by Charles Edwards\, who makes his company directorial debut after many successes as a set designer. The Met has assembled a world-beating quartet of stars\, conducted by Marco Armiliato\, for the demanding principal roles. Soprano Lisette Oropesa and tenor Lawrence Brownlee are Elvira and Arturo\, brought together by love and torn apart by the political rifts of the English Civil War\, with baritone Artur Ruciński as Riccardo\, betrothed to Elvira against her will\, and bass-baritone Christian Van Horn as Elvira’s sympathetic uncle\, Giorgio.
URL:https://ramsdelltheatre.org/event/met-opera-i-puritani-bellini/
LOCATION:Ramsdell Regional Center for the Arts\, 101 Maple Street\, Manistee\, MI\, 49660\, United States
ATTACH;FMTTYPE=image/png:https://ramsdelltheatre.org/wp-content/uploads/2025/10/met-opera-1.png
ORGANIZER;CN="RRCA":MAILTO:lortiz@ramsdelltheatre.org
END:VEVENT
END:VCALENDAR