BEGIN:VCALENDAR
VERSION:2.0
PRODID:-//Ramsdell Theatre &amp; Regional Center for the Arts - ECPv6.15.15//NONSGML v1.0//EN
CALSCALE:GREGORIAN
METHOD:PUBLISH
X-WR-CALNAME:Ramsdell Theatre &amp; Regional Center for the Arts
X-ORIGINAL-URL:https://ramsdelltheatre.org
X-WR-CALDESC:Events for Ramsdell Theatre &amp; Regional Center for the Arts
REFRESH-INTERVAL;VALUE=DURATION:PT1H
X-Robots-Tag:noindex
X-PUBLISHED-TTL:PT1H
BEGIN:VTIMEZONE
TZID:America/Detroit
BEGIN:DAYLIGHT
TZOFFSETFROM:-0500
TZOFFSETTO:-0400
TZNAME:EDT
DTSTART:20240310T070000
END:DAYLIGHT
BEGIN:STANDARD
TZOFFSETFROM:-0400
TZOFFSETTO:-0500
TZNAME:EST
DTSTART:20241103T060000
END:STANDARD
BEGIN:DAYLIGHT
TZOFFSETFROM:-0500
TZOFFSETTO:-0400
TZNAME:EDT
DTSTART:20250309T070000
END:DAYLIGHT
BEGIN:STANDARD
TZOFFSETFROM:-0400
TZOFFSETTO:-0500
TZNAME:EST
DTSTART:20251102T060000
END:STANDARD
BEGIN:DAYLIGHT
TZOFFSETFROM:-0500
TZOFFSETTO:-0400
TZNAME:EDT
DTSTART:20260308T070000
END:DAYLIGHT
BEGIN:STANDARD
TZOFFSETFROM:-0400
TZOFFSETTO:-0500
TZNAME:EST
DTSTART:20261101T060000
END:STANDARD
END:VTIMEZONE
BEGIN:VEVENT
DTSTART;TZID=America/Detroit:20250912T120000
DTEND;TZID=America/Detroit:20251026T150000
DTSTAMP:20260422T112332
CREATED:20250826T162602Z
LAST-MODIFIED:20250826T162605Z
UID:17693-1757678400-1761490800@ramsdelltheatre.org
SUMMARY:DOUBLE TAKE Exhibit
DESCRIPTION:Doubble Take \n  \nS.A. Habib and Fred Niles have been friends for well over 30 years. This bond developed with an annual golf trip (37 consecutive years and counting) with their friends Paul Sandman and Vernon Moore. As designers (Habib with a career in the advertising industry and Niles as a professor of graphic design) they share a common aesthetic. This exhibition of Habib’s paintings and Niles’s photographs gives evidence to that commonality. Over the years they have found instances where they document the same\, or nearly the same\, images during their travels. In addition to their individual works this exhibition includes a few examples where Habib has interrupted\, with his paintings\, Niles’s photography. Therefore\, Doubble Take.
URL:https://ramsdelltheatre.org/event/double-take-exhibit/
LOCATION:MI
END:VEVENT
BEGIN:VEVENT
DTSTART;VALUE=DATE:20251018
DTEND;VALUE=DATE:20251019
DTSTAMP:20260422T112332
CREATED:20250826T152552Z
LAST-MODIFIED:20250826T161453Z
UID:17656-1760745600-1760831999@ramsdelltheatre.org
SUMMARY:Private Rental
DESCRIPTION:
URL:https://ramsdelltheatre.org/event/private-rental-6/
LOCATION:MI
END:VEVENT
END:VCALENDAR